Workbook
Name _GoBack: 'PLAN DE TRABAJO'!$D$53

Sheet FORMULARIO
A1: TECNOLÓGICO NACIONAL DE MÉXICO
A2: INSTITUTO TECNOLÓGICO DE QUERÉTARO
A3: DEPARTAMENTO DE GESTIÓN TECNOLÓGICA Y VINCULACIÓN
A4: OFICINA DE SERVICIO SOCIAL
A5: FORMULARIO DE DATOS
A6: VERSIÓN 3.5
D8: Periodo | H8: ENE-JUN | L8: AÑO | R8: AGO-DIC | U8: X | V8: AÑO | X8: 2025 | AA8: Selecciona el Periodo Cuando se comenzó el Servicio Social con una "X" y el año
B10: NOMBRE DEL ALUMNO: | AF10: Llenado por el alumno
B11: NÚMERO DE CONTROL: | AF11: Llenado automáticamente (NO MODIFICAR)
B12: CARRERA:
B13: CORREO ELECTRÓNICO INSTITUCIONAL: | AE13: Pasos para el uso del documento:
B14: NOMBRE DE LA DEPENDENCIA:
B15: NOMBRE DEL PROGRAMA / PROYECTO: | AE15: 1. Plan de trabajo: añadir el objetivo del programa, actividades a realizar y cronograma de actividades
B16: FECHA DE INICIO DE SERVICIO SOCIAL (DÍA / MES / AÑO): | N16: 45905 | AE16: 2. Reporte Bimestral
B17: FECHA PRIMER REPORTE: | N17: =EDATE(N16,2) -> 45966 | AE17: 2.1 Reporte de Evaluación: El encargado del programa coloca las calificaciones. La sumatoria se hace en automático
B18: FECHA SEGUNDO REPORTE: | N18: =EDATE(N17,2) -> 46027
B19: FECHA TERCER REPORTE: | N19: =EDATE(N18,2) -> 46086 | AE19: 2.2 Reporte de Autoevaluación: El alumno coloca las calificaciones. La sumatoria se hace en automático
B20: FECHA DE TERMINACIÓN DE SERVICIO SOCIAL: | N20: =EDATE(N16,6) -> 46086 | AE20: 3. Carta terminación: Llenar el espacio con el municipio de Querétaro donde se realiza la carta
B21: HORARIO: | AE21: 4. Reporte Final de Servicio Social: Llenar los espacios grandes con la información requerida.
B22: NOMBRE DEL RESPONSABLE DE LA DEPENDENCIA:
B23: CARGO DE LA PERSONA RESPONSABLE DE LA DEPENDENCIA:
B24: NOMBRE DEL RESPONSABLE DEL PROGRAMA:
B25: CARGO DE LA PERSONA RESPONSABLE DEL PROGRAMA:
C27: NOTAS
C28: a. Una vez llenado los datos, se generarán los formatos. NO elimines NI modifiques nada de los formatos (al menos que se indique)
C29: b. En los Reportes las horas acumuladas se van sumando entre reportes. Favor de Guardar el archivo cada vez que generes un reporte. Y no elimines la información . Para generar el Reporte 2, necesitas las horas del reporte 1. Para el reporte 3, necesitas las horas en el Reporte 2.
C31: c. Al momento de imprimir asegúrate seleccionar la opción "Ajustar hoja en una página"

Sheet PLAN DE TRABAJO
A1: TECNOLÓGICO NACIONAL DE MÉXICO
A2: INSTITUTO TECNOLÓGICO DE QUERÉTARO
A3: DEPARTAMENTO DE GESTIÓN TECNOLÓGICA Y VINCULACIÓN
A4: OFICINA DE SERVICIO SOCIAL
A5: PLAN DE TRABAJO
C8: Periodo | H8: ENE-JUN | K8: =FORMULARIO!K8 -> 0 | L8: AÑO | N8: =FORMULARIO!N8 -> 0 | T8: AGO-DIC | W8: =FORMULARIO!U8 -> X | X8: AÑO | Z8: =FORMULARIO!X8 -> 2025
A11: Nombre: | D11: =FORMULARIO!N10 -> 0 | V11: Carrera: | Y11: =FORMULARIO!N12 -> 0
A13: Correo Electrónico: | H13: =FORMULARIO!N13 -> 0 | V13: No. De Control: | AA13: =FORMULARIO!N11 -> 0
A15: Dependencia: | G15: =FORMULARIO!N14 -> 0
A17: Nombre del Programa: | I17: =FORMULARIO!N15 -> 0
A19: Objetivo del Programa: | I19: IMPLEMENTACIÓN DE FUNCIONALIDAD CON ÓCULOS METAQUEST DE REALIDAD VIRTUAL, DE MANERA QUE PUEDAN SER USADOS PARA PRÁCTICAS ACADÉMICAS, MATERIAL DE DIFUSIÓN.
A21: Fecha Inicio: | G21: =TEXT(FORMULARIO!N16,"dd/mm/aaaa") -> 05/09/2025 | O21: Fecha Término: | S21: =TEXT(FORMULARIO!N20,"dd/mm/aaaa") -> 05/03/2026 | Z21: Horario: | AB21: =FORMULARIO!N21 -> 0
A23: Detalle de Actividades
A25: No. | B25: Descripción
A26: 1 | B26: ANÁLISIS DE SOFTWARE PARA IMPLEMENTACIÓN DE ENTORNOS DE REALIDAD VIRTUAL
A27: 2 | B27: GENERACIÓN DE PRUEBA DE CONCEPTO DE ENTORNOS DE REALIDAD VIRTUAL
A28: 3 | B28: DOCUMENTACIÓN DE LA PRUEBA DE CONCEPTO Y RESULTADOS DEL ANÁLISIS DEL SOFTWARE
A29: 4
A30: 5
A31: 6
A32: 7
A33: 8
A35: Cronograma de Actividades
C37: Act. | H37: Semanas
H38: 1 | I38: 2 | J38: 3 | K38: 4 | L38: 5 | M38: 6 | N38: 7 | O38: 8 | P38: 9 | Q38: 10 | R38: 11 | S38: 12 | T38: 13 | U38: 14 | V38: 15 | W38: 16 | X38: 17 | Y38: 18 | Z38: 19 | AA38: 20 | AB38: 21 | AC38: 22 | AD38: 23 | AE38: 24
C39: 1 | H39: X | I39: X | J39: X | K39: X | L39: X | M39: X | N39: X | O39: X | P39: X | Q39: X | R39: X
C40: 2 | N40: X | O40: X | P40: X | Q40: X | R40: X | S40: X | T40: X | U40: X | V40: X | W40: X
C41: 3 | P41: X | Q41: X | R41: X | S41: X | T41: X | U41: X | V41: X | W41: X | X41: X | Y41: X | Z41: X | AA41: X | AB41: X | AC41: X | AD41: X | AE41: X
C42: 4
C43: 5
C44: 6
C45: 7
C46: 8
D47: Nota. Si requiere de más tiempo, anexar documento con cronograma
A48: =FORMULARIO!N22 -> 0 | L48: =FORMULARIO!N24 -> 0 | Y48: Sello del Departamento de Gestión Tecnológica y Vinculación
A49: =FORMULARIO!N23 -> 0 | L49: =FORMULARIO!N25 -> 0
A50: Responsable de la Dependencia o Jefe del Departamento | L50: Responsable directo del Programa
A53: ITQ-VI-PO-002-04 | AE53: Rev.3

Sheet REPORTE EVALUACION 1
B1: TECNOLÓGICO NACIONAL DE MÉXICO
B2: INSTITUTO TECNOLÓGICO DE QUERÉTARO
B3: DEPARTAMENTO DE GESTIÓN TECNOLÓGICA Y VINCULACIÓN
B4: OFICINA DE SERVICIO SOCIAL
B5: FORMATO DE EVALUACIÓN BIMESTRAL DEL SERVICIO SOCIAL
C7: PERIODO | E7: ENE - JUN | G7: =FORMULARIO!K8 -> 0 | H7: AÑO | I7: =FORMULARIO!N8 -> 0 | K7: AGO - DIC | M7: =FORMULARIO!U8 -> X | N7: AÑO | O7: =FORMULARIO!X8 -> 2025
B9: NUM. DE REPORTE | H9: 1 | I9: 2 | J9: 3 | K9: 4 | L9: 5
H10: X
A12: Nombre(s) del Prestador(a): | E12: =FORMULARIO!N10 -> 0 | N12: No. Control: | P12: =FORMULARIO!N11 -> 0
A13: Carrera: | E13: =FORMULARIO!N12 -> 0
A14: Nombre de la Dependencia: | E14: =FORMULARIO!N14 -> 0
A15: Nombre del Programa: | E15: =FORMULARIO!N15 -> 0
A16: Periodo Bimestral a Reportar: | E16: =DAY(FORMULARIO!N16) -> 5 | F16: de | G16: =TEXT(MONTH(FORMULARIO!N16)*30,"mmmm") -> septiembre | I16: del | J16: =YEAR(FORMULARIO!N16) -> 2025 | K16: al | L16: =DAY(FORMULARIO!N17) -> 5 | M16: de | N16: =TEXT(MONTH(FORMULARIO!N17)*30,"mmmm") -> noviembre | P16: del | Q16: =YEAR(FORMULARIO!N17) -> 2025
A18: Total de Horas Bimestrales | I18: horas | J18: Total de Horas Acumuladas | N18: =E18 -> 0 | R18: horas
A20: Evaluación: En qué medida el prestador del Servicio Social cumple con lo siguiente:
A21: Criterios a evaluar | N21: "A" Valor | P21: "B" Evaluación de desempeño
A22: Evaluación por el responsable del programa | B22: Cumple en tiempo y forma con las actividades encomendadas alcanzando los objetivos | N22: 0 - 4
B23: Trabaja en equipos y se adapta a nuevas situaciones | N23: 0 - 4
B24: Muestra liderazgo en las actividades encomendadas | N24: 0 - 4
B25: Organiza su tiempo y trabaja de manera proactiva. | N25: 0 - 4
B26: Interpreta la realidad y se sensibiliza aportando soluciones a la problemática con la actividad complementaria. | N26: 0 - 4
B27: Realiza sugerencias innovadoras para benéfico o mejora del programa en el que participa. | N27: 0 - 4
B28: Tiene iniciativa para ayudar en las actividades encomendadas y muestra espíritu de servicio. | N28: 0 - 4
A29: Suma de criterios a evaluar | N29: 0 - 28 | P29: =SUM(P22:R28) -> 0
A30: Calificación de Evaluación Bimestral (Suma de Criterios / 28) * 100 | N30: =ROUND((P29/28*100),0) -> 0
A31: EVALUACIÓN | E31: =ROUNDDOWN((N30*0.9),0) -> 0 | G31: AUTOEVALUACIÓN | K31: =ROUNDDOWN(('REPORTE AUTOEVA 1'!AI32*0.1),0) -> 0 | M31: CALIFICACIÓN PARCIAL | Q31: =SUM(E31,K31) -> 0
A32: (CALIFICACIÓN * 90%) | G32: (CALIFICACIÓN * 10%)
A33: LLENADO EXCLUSIVO DE OFICINA DE SERVICIO SOCIAL
A34: Penalización de Calificación por entrega tardía | N34: 0 - 10 | O34: negativos
A35: CALIFICACIÓN FINAL (AUTOEVALUACIÓN + REPORTE - PENALIZACIÓN)
A36: OBSERVACIONES
A38: NOTA 1: si lo entregas a la fecha de tu vencimiento tendrás como calificación de evaluación (10 puntos). Si te tardas 1 día después de tu fecha será por (9 puntos) y así consecutivamente, si tardas los 10 días tu calificación será (0 puntos).
A40: NOTA 2: Tabla de Equivalencia
F41: Excelente | H41: 4 | J41: Suficiente | L41: 1
F42: Notable | H42: 3 | J42: Insuficiente | L42: 0
F43: Bueno | H43: 2
A44: Observaciones: Este formato debe ser llenado de forma digital sin tachaduras ni enmendaduras.
L46: Sello de la Dependencia
A49: =FORMULARIO!N24 -> 0
A50: =FORMULARIO!N25 -> 0
...

Sheet REPORTE AUTOEVA 1
A1: TECNOLÓGICO NACIONAL DE MÉXICO
A2: INSTITUTO TECNOLÓGICO DE QUERÉTARO
A3: DEPARTAMENTO DE GESTIÓN TECNOLÓGICA Y VINCULACIÓN
A4: OFICINA DE SERVICIO SOCIAL
A5: FORMATO DE AUTOEVALUACIÓN BIMESTRAL DEL SERVICIO SOCIAL
K7: PERIODO | N7: ENE - JUN | Q7: =FORMULARIO!K8 -> 0 | R7: AÑO | S7: =FORMULARIO!N8 -> 0 | U7: AGO - DIC | X7: =FORMULARIO!U8 -> X | Y7: AÑO | Z7: =FORMULARIO!X8 -> 2025
K9: NUM. DE REPORTE | P9: 1 | R9: 2 | T9: 3 | V9: 4 | X9: 5
P10: X
C12: Nombre del prestador(a): | N12: =FORMULARIO!N10 -> 0 | AD12: No. De Control: | AG12: =FORMULARIO!N11 -> 0
C13: Carrera: | N13: =FORMULARIO!N12 -> 0
C14: Nombre de la Dependencia: | N14: =FORMULARIO!N14 -> 0
C15: Nombre del Programa: | N15: =FORMULARIO!N15 -> 0
C16: Periodo Bimestral a Reportar: | N16: =DAY(FORMULARIO!N16) -> 5 | P16: de | Q16: =TEXT(MONTH(FORMULARIO!N16)*30,"mmmm") -> septiembre | T16: del | U16: =YEAR(FORMULARIO!N16) -> 2025 | W16: al | X16: =DAY(FORMULARIO!N17) -> 5 | Z16: de | AA16: =TEXT(MONTH(FORMULARIO!N17)*30,"mmmm") -> noviembre | AE16: de | AG16: =YEAR(FORMULARIO!N17) -> 2025
A18: Horas Reportadas en el Bimestre: | L18: ='REPORTE EVALUACION 1'!E18 -> 0 | R18: horas | U18: Total de Horas Acumuladas: | AC18: ='REPORTE EVALUACION 1'!N18 -> 0 | AI18: horas
A21: AUTOEVALUACIÓN CUALITATIVA DEL PRESTADOR DE SERVICIO SOCIAL | U21: EVALUACIÓN DE LAS ACTIVIDADES REALIZADAS POR EL PRESTADOR
A22: No. | B22: Criterio | O22: VALOR | Q22: EVALUACIÓN | U22: No. | V22: Criterio | AI22: VALOR | AK22: EVALUACIÓN DE DESEMPEÑO
A23: 1 | B23: Cumplí en tiempo y forma con las actividades encomendadas alcanzando los objetivos. | O23: 0 - 4 | U23: 8 | V23: ¿Consideras importante la realización del Servicio Social? | AI23: 0 - 4
A24: 2 | B24: Trabajé en equipo y me adapté a nuevas situaciones. | O24: 0 - 4 | U24: 9 | V24: ¿Consideras que las actividades que realizaste son pertinentes a los fines del Servicio Social? | AI24: 0 - 4
A25: 3 | B25: Mostré liderazgo en las actividades encomendadas. | O25: 0 - 4 | U25: 10 | V25: ¿Consideras que las actividades que realizaste contribuyen a tu formación integral? | AI25: 0 - 4
A26: 4 | B26: Organicé mi tiempo y trabajé de manera proactiva. | O26: 0 - 4 | U26: 11 | V26: ¿Contribuiste en actividades de beneficio social comunitario? | AI26: 0 - 4
A27: 5 | B27: Interpreté la realidad y me sensibilicé aportando soluciones a la problemática con la actividad complementaria | O27: 0 - 4 | U27: 12 | V27: ¿Contribuiste en actividades de protección al medio ambiente? | AI27: 0 - 4
A28: 6 | B28: Realicé sugerencias innovadoras para beneficio o mejora del programa en el que participa. | O28: 0 - 4 | U28: 13 | V28: ¿Consideras que las competencias que adquiriste en el TecNM contribuyeron a atender asertivamente las actividades de Servicio Social? | AI28: 0 - 4
A29: 7 | B29: Tuve iniciativa para ayudar en las actividades encomendadas y mostré espíritu de servicio. | O29: 0 - 4 | U29: 14 | V29: ¿Consideras que sería factible continuar con este proyecto de Servicio Social a un proyecto de Residencias Profesionales, proyecto integrador, proyecto de investigación o desarrollo tecnológico? | AI29: 0 - 4
A30: Observación: Este formato debe ser llenado de forma digital sin tachaduras ni enmendaduras. | U30: 15 | V30: ¿Qué tanto recomendarías a otro estudiante realizar su Servicio Social en la dependencia donde lo realizaste? | AI30: 0 - 4
A31: TOTAL ACUMULADO | AI31: =SUM(Q23:S29,AK23:AM30) -> 0
A32: CALIFICACIÓN DE AUTOEVALUACIÓN (TOTAL ACUMULADO / 60) x100 | AI32: =ROUND((AI31/60*100),0) -> 0
P35: SELLO DE LA DEPENDENCIA
A38: =FORMULARIO!N24 -> 0 | Y38: =FORMULARIO!N10 -> 0
A39: =FORMULARIO!N25 -> 0 | Y39: =FORMULARIO!N12 -> 0
A41: ITQ-VI-PO-002-08 | AK41: Rev. 3

Sheet REPORTE EVALUACION 2
B1: TECNOLÓGICO NACIONAL DE MÉXICO
B2: INSTITUTO TECNOLÓGICO DE QUERÉTARO
B3: DEPARTAMENTO DE GESTIÓN TECNOLÓGICA Y VINCULACIÓN
B4: OFICINA DE SERVICIO SOCIAL
B5: FORMATO DE EVALUACIÓN BIMESTRAL DEL SERVICIO SOCIAL
C7: PERIODO | E7: ENE - JUN | G7: =FORMULARIO!K8 -> 0 | H7: AÑO | I7: =FORMULARIO!N8 -> 0 | K7: AGO - DIC | M7: =FORMULARIO!U8 -> X | N7: AÑO | O7: =FORMULARIO!X8 -> 2025
B9: NUM. DE REPORTE | H9: 1 | I9: 2 | J9: 3 | K9: 4 | L9: 5
I10: X
A12: Nombre(s) del Prestador(a): | E12: =FORMULARIO!N10 -> 0 | N12: No. Control: | P12: =FORMULARIO!N11 -> 0
A13: Carrera: | E13: =FORMULARIO!N12 -> 0
A14: Nombre de la Dependencia: | E14: =FORMULARIO!N14 -> 0
A15: Nombre del Programa: | E15: =FORMULARIO!N15 -> 0
A16: Periodo Bimestral a Reportar: | E16: =DAY(FORMULARIO!N17) -> 5 | F16: de | G16: =TEXT(MONTH(FORMULARIO!N17)*30,"mmmm") -> noviembre | I16: del | J16: =YEAR(FORMULARIO!N17) -> 2025 | K16: al | L16: =DAY(FORMULARIO!N18) -> 5 | M16: de | N16: =TEXT(MONTH(FORMULARIO!N18)*30,"mmmm") -> enero | P16: del | Q16: =YEAR(FORMULARIO!N18) -> 2026
A18: Total de Horas Bimestrales | I18: horas | J18: Total de Horas Acumuladas | N18: ='REPORTE EVALUACION 1'!N18+'REPORTE EVALUACION 2'!E18 -> 0 | R18: horas
A20: Evaluación: En qué medida el prestador del Servicio Social cumple con lo siguiente:
A21: Criterios a evaluar | N21: "A" Valor | P21: "B" Evaluación de desempeño
A22: Evaluación por el responsable del programa | B22: Cumple en tiempo y forma con las actividades encomendadas alcanzando los objetivos | N22: 0 - 4
B23: Trabaja en equipos y se adapta a nuevas situaciones | N23: 0 - 4
B24: Muestra liderazgo en las actividades encomendadas | N24: 0 - 4
B25: Organiza su tiempo y trabaja de manera proactiva. | N25: 0 - 4
B26: Interpreta la realidad y se sensibiliza aportando soluciones a la problemática con la actividad complementaria. | N26: 0 - 4
B27: Realiza sugerencias innovadoras para benéfico o mejora del programa en el que participa. | N27: 0 - 4
B28: Tiene iniciativa para ayudar en las actividades encomendadas y muestra espíritu de servicio. | N28: 0 - 4
A29: Suma de criterios a evaluar | N29: 0 - 28 | P29: =SUM(P22:R28) -> 0
A30: Calificación de Evaluación Bimestral (Suma de Criterios / 28) * 100 | N30: =ROUND((P29/28*100),0) -> 0
A31: EVALUACIÓN | E31: =ROUNDDOWN((N30*0.9),0) -> 0 | G31: AUTOEVALUACIÓN | K31: =ROUNDDOWN(('REPORTE AUTOEVA 2'!AI32*0.1),0) -> 0 | M31: CALIFICACIÓN PARCIAL | Q31: =SUM(E31,K31) -> 0
A32: (CALIFICACIÓN * 90%) | G32: (CALIFICACIÓN * 10%)
A33: LLENADO EXCLUSIVO DE OFICINA DE SERVICIO SOCIAL
A34: Penalización de Calificación por entrega tardía | N34: 0 - 10 | O34: negativos
A35: CALIFICACIÓN FINAL (AUTOEVALUACIÓN + REPORTE - PENALIZACIÓN)
A36: OBSERVACIONES
A38: NOTA 1: si lo entregas a la fecha de tu vencimiento tendrás como calificación de evaluación (10 puntos). Si te tardas 1 día después de tu fecha será por (9 puntos) y así consecutivamente, si tardas los 10 días tu calificación será (0 puntos).
A40: NOTA 2: Tabla de Equivalencia
F41: Excelente | H41: 4 | J41: Suficiente | L41: 1
F42: Notable | H42: 3 | J42: Insuficiente | L42: 0
F43: Bueno | H43: 2
A44: Observaciones: Este formato debe ser llenado de forma digital sin tachaduras ni enmendaduras.
L46: Sello de la Dependencia
A49: =FORMULARIO!N24 -> 0
A50: =FORMULARIO!N25 -> 0
...

Sheet REPORTE AUTOEVA 2
A1: TECNOLÓGICO NACIONAL DE MÉXICO
A2: INSTITUTO TECNOLÓGICO DE QUERÉTARO
A3: DEPARTAMENTO DE GESTIÓN TECNOLÓGICA Y VINCULACIÓN
A4: OFICINA DE SERVICIO SOCIAL
A5: FORMATO DE AUTOEVALUACIÓN BIMESTRAL DEL SERVICIO SOCIAL
K7: PERIODO | N7: ENE - JUN | Q7: =FORMULARIO!K8 -> 0 | R7: AÑO | S7: =FORMULARIO!N8 -> 0 | U7: AGO - DIC | X7: =FORMULARIO!U8 -> X | Y7: AÑO | Z7: =FORMULARIO!X8 -> 2025
K9: NUM. DE REPORTE | P9: 1 | R9: 2 | T9: 3 | V9: 4 | X9: 5
R10: X
C12: Nombre del prestador(a): | N12: =FORMULARIO!N10 -> 0 | AD12: No. De Control: | AG12: =FORMULARIO!N11 -> 0
C13: Carrera: | N13: =FORMULARIO!N12 -> 0
C14: Nombre de la Dependencia: | N14: =FORMULARIO!N14 -> 0
C15: Nombre del Programa: | N15: =FORMULARIO!N15 -> 0
C16: Periodo Bimestral a Reportar: | N16: =DAY(FORMULARIO!N17) -> 5 | P16: de | Q16: =TEXT(MONTH(FORMULARIO!N17)*30,"mmmm") -> noviembre | T16: del | U16: =YEAR(FORMULARIO!N17) -> 2025 | W16: al | X16: =DAY(FORMULARIO!N18) -> 5 | Z16: de | AA16: =TEXT(MONTH(FORMULARIO!N18)*30,"mmmm") -> enero | AE16: de | AG16: =YEAR(FORMULARIO!N18) -> 2026
A18: Horas Reportadas en el Bimestre: | L18: ='REPORTE EVALUACION 2'!E18 -> 0 | R18: horas | U18: Total de Horas Acumuladas: | AC18: ='REPORTE EVALUACION 2'!N18 -> 0 | AI18: horas
A21: AUTOEVALUACIÓN CUALITATIVA DEL PRESTADOR DE SERVICIO SOCIAL | U21: EVALUACIÓN DE LAS ACTIVIDADES REALIZADAS POR EL PRESTADOR
A22: No. | B22: Criterio | O22: VALOR | Q22: EVALUACIÓN | U22: No. | V22: Criterio | AI22: VALOR | AK22: EVALUACIÓN DE DESEMPEÑO
A23: 1 | B23: Cumplí en tiempo y forma con las actividades encomendadas alcanzando los objetivos. | O23: 0 - 4 | U23: 8 | V23: ¿Consideras importante la realización del Servicio Social? | AI23: 0 - 4
A24: 2 | B24: Trabajé en equipo y me adapté a nuevas situaciones. | O24: 0 - 4 | U24: 9 | V24: ¿Consideras que las actividades que realizaste son pertinentes a los fines del Servicio Social? | AI24: 0 - 4
A25: 3 | B25: Mostré liderazgo en las actividades encomendadas. | O25: 0 - 4 | U25: 10 | V25: ¿Consideras que las actividades que realizaste contribuyen a tu formación integral? | AI25: 0 - 4
A26: 4 | B26: Organicé mi tiempo y trabajé de manera proactiva. | O26: 0 - 4 | U26: 11 | V26: ¿Contribuiste en actividades de beneficio social comunitario? | AI26: 0 - 4
A27: 5 | B27: Interpreté la realidad y me sensibilicé aportando soluciones a la problemática con la actividad complementaria | O27: 0 - 4 | U27: 12 | V27: ¿Contribuiste en actividades de protección al medio ambiente? | AI27: 0 - 4
A28: 6 | B28: Realicé sugerencias innovadoras para beneficio o mejora del programa en el que participa. | O28: 0 - 4 | U28: 13 | V28: ¿Consideras que las competencias que adquiriste en el TecNM contribuyeron a atender asertivamente las actividades de Servicio Social? | AI28: 0 - 4
A29: 7 | B29: Tuve iniciativa para ayudar en las actividades encomendadas y mostré espíritu de servicio. | O29: 0 - 4 | U29: 14 | V29: ¿Consideras que sería factible continuar con este proyecto de Servicio Social a un proyecto de Residencias Profesionales, proyecto integrador, proyecto de investigación o desarrollo tecnológico? | AI29: 0 - 4
A30: Observación: Este formato debe ser llenado de forma digital sin tachaduras ni enmendaduras. | U30: 15 | V30: ¿Qué tanto recomendarías a otro estudiante realizar su Servicio Social en la dependencia donde lo realizaste? | AI30: 0 - 4
A31: TOTAL ACUMULADO | AI31: =SUM(Q23:S29,AK23:AM30) -> 0
A32: CALIFICACIÓN DE AUTOEVALUACIÓN (TOTAL ACUMULADO / 60) x100 | AI32: =ROUND((AI31/60*100),0) -> 0
P35: SELLO DE LA DEPENDENCIA
A38: =FORMULARIO!N24 -> 0 | Y38: =FORMULARIO!N10 -> 0
A39: =FORMULARIO!N25 -> 0 | Y39: =FORMULARIO!N12 -> 0
A41: ITQ-VI-PO-002-08 | AK41: Rev. 3

Sheet REPORTE EVALUACION 3
B1: TECNOLÓGICO NACIONAL DE MÉXICO
B2: INSTITUTO TECNOLÓGICO DE QUERÉTARO
B3: DEPARTAMENTO DE GESTIÓN TECNOLÓGICA Y VINCULACIÓN
B4: OFICINA DE SERVICIO SOCIAL
B5: FORMATO DE EVALUACIÓN BIMESTRAL DEL SERVICIO SOCIAL
C7: PERIODO | E7: ENE - JUN | G7: =FORMULARIO!K8 -> 0 | H7: AÑO | I7: =FORMULARIO!N8 -> 0 | K7: AGO - DIC | M7: =FORMULARIO!U8 -> X | N7: AÑO | O7: =FORMULARIO!X8 -> 2025
B9: NUM. DE REPORTE | H9: 1 | I9: 2 | J9: 3 | K9: 4 | L9: 5
J10: X
A12: Nombre(s) del Prestador(a): | E12: =FORMULARIO!N10 -> 0 | N12: No. Control: | P12: =FORMULARIO!N11 -> 0
A13: Carrera: | E13: =FORMULARIO!N12 -> 0
A14: Nombre de la Dependencia: | E14: =FORMULARIO!N14 -> 0
A15: Nombre del Programa: | E15: =FORMULARIO!N15 -> 0
A16: Periodo Bimestral a Reportar: | E16: =DAY(FORMULARIO!N18) -> 5 | F16: de | G16: =TEXT(MONTH(FORMULARIO!N18)*30,"mmmm") -> enero | I16: del | J16: =YEAR(FORMULARIO!N18) -> 2026 | K16: al | L16: =DAY(FORMULARIO!N19) -> 5 | M16: de | N16: =TEXT(MONTH(FORMULARIO!N19)*30,"mmmm") -> marzo | P16: del | Q16: =YEAR(FORMULARIO!N19) -> 2026
A18: Total de Horas Bimestrales | I18: horas | J18: Total de Horas Acumuladas | N18: ='REPORTE EVALUACION 2'!N18+'REPORTE EVALUACION 3'!E18 -> 0 | R18: horas
A20: Evaluación: En qué medida el prestador del Servicio Social cumple con lo siguiente:
A21: Criterios a evaluar | N21: "A" Valor | P21: "B" Evaluación de desempeño
A22: Evaluación por el responsable del programa | B22: Cumple en tiempo y forma con las actividades encomendadas alcanzando los objetivos | N22: 0 - 4
B23: Trabaja en equipos y se adapta a nuevas situaciones | N23: 0 - 4
B24: Muestra liderazgo en las actividades encomendadas | N24: 0 - 4
B25: Organiza su tiempo y trabaja de manera proactiva. | N25: 0 - 4
B26: Interpreta la realidad y se sensibiliza aportando soluciones a la problemática con la actividad complementaria. | N26: 0 - 4
B27: Realiza sugerencias innovadoras para benéfico o mejora del programa en el que participa. | N27: 0 - 4
B28: Tiene iniciativa para ayudar en las actividades encomendadas y muestra espíritu de servicio. | N28: 0 - 4
A29: Suma de criterios a evaluar | N29: 0 - 28 | P29: =SUM(P22:R28) -> 0
A30: Calificación de Evaluación Bimestral (Suma de Criterios / 28) * 100 | N30: =ROUND((P29/28*100),0) -> 0
A31: EVALUACIÓN | E31: =ROUNDDOWN((N30*0.9),0) -> 0 | G31: AUTOEVALUACIÓN | K31: =ROUNDDOWN(('REPORTE AUTOEVA 3'!AI32*0.1),0) -> 0 | M31: CALIFICACIÓN PARCIAL | Q31: =SUM(E31,K31) -> 0
A32: (CALIFICACIÓN * 90%) | G32: (CALIFICACIÓN * 10%)
A33: LLENADO EXCLUSIVO DE OFICINA DE SERVICIO SOCIAL
A34: Penalización de Calificación por entrega tardía | N34: 0 - 10 | O34: negativos
A35: CALIFICACIÓN FINAL (AUTOEVALUACIÓN + REPORTE - PENALIZACIÓN)
A36: OBSERVACIONES
A38: NOTA 1: si lo entregas a la fecha de tu vencimiento tendrás como calificación de evaluación (10 puntos). Si te tardas 1 día después de tu fecha será por (9 puntos) y así consecutivamente, si tardas los 10 días tu calificación será (0 puntos).
A40: NOTA 2: Tabla de Equivalencia
F41: Excelente | H41: 4 | J41: Suficiente | L41: 1
F42: Notable | H42: 3 | J42: Insuficiente | L42: 0
F43: Bueno | H43: 2
A44: Observaciones: Este formato debe ser llenado de forma digital sin tachaduras ni enmendaduras.
L46: Sello de la Dependencia
A49: =FORMULARIO!N24 -> 0
A50: =FORMULARIO!N25 -> 0
...

Sheet REPORTE AUTOEVA 3
A1: TECNOLÓGICO NACIONAL DE MÉXICO
A2: INSTITUTO TECNOLÓGICO DE QUERÉTARO
A3: DEPARTAMENTO DE GESTIÓN TECNOLÓGICA Y VINCULACIÓN
A4: OFICINA DE SERVICIO SOCIAL
A5: FORMATO DE AUTOEVALUACIÓN BIMESTRAL DEL SERVICIO SOCIAL
K7: PERIODO | N7: ENE - JUN | Q7: =FORMULARIO!K8 -> 0 | R7: AÑO | S7: =FORMULARIO!N8 -> 0 | U7: AGO - DIC | X7: =FORMULARIO!U8 -> X | Y7: AÑO | Z7: =FORMULARIO!X8 -> 2025
K9: NUM. DE REPORTE | P9: 1 | R9: 2 | T9: 3 | V9: 4 | X9: 5
T10: X
C12: Nombre del prestador(a): | N12: =FORMULARIO!N10 -> 0 | AD12: No. De Control: | AG12: =FORMULARIO!N11 -> 0
C13: Carrera: | N13: =FORMULARIO!N12 -> 0
C14: Nombre de la Dependencia: | N14: =FORMULARIO!N14 -> 0
C15: Nombre del Programa: | N15: =FORMULARIO!N15 -> 0
C16: Periodo Bimestral a Reportar: | N16: =DAY(FORMULARIO!N18) -> 5 | P16: de | Q16: =TEXT(MONTH(FORMULARIO!N18)*30,"mmmm") -> enero | T16: del | U16: =YEAR(FORMULARIO!N18) -> 2026 | W16: al | X16: =DAY(FORMULARIO!N19) -> 5 | Z16: de | AA16: =TEXT(MONTH(FORMULARIO!N19)*30,"mmmm") -> marzo | AE16: de | AG16: =YEAR(FORMULARIO!N19) -> 2026
A18: Horas Reportadas en el Bimestre: | L18: ='REPORTE EVALUACION 3'!E18 -> 0 | R18: horas | U18: Total de Horas Acumuladas: | AC18: ='REPORTE EVALUACION 3'!N18 -> 0 | AI18: horas
A21: AUTOEVALUACIÓN CUALITATIVA DEL PRESTADOR DE SERVICIO SOCIAL | U21: EVALUACIÓN DE LAS ACTIVIDADES REALIZADAS POR EL PRESTADOR
A22: No. | B22: Criterio | O22: VALOR | Q22: EVALUACIÓN | U22: No. | V22: Criterio | AI22: VALOR | AK22: EVALUACIÓN DE DESEMPEÑO
A23: 1 | B23: Cumplí en tiempo y forma con las actividades encomendadas alcanzando los objetivos. | O23: 0 - 4 | U23: 8 | V23: ¿Consideras importante la realización del Servicio Social? | AI23: 0 - 4
A24: 2 | B24: Trabajé en equipo y me adapté a nuevas situaciones. | O24: 0 - 4 | U24: 9 | V24: ¿Consideras que las actividades que realizaste son pertinentes a los fines del Servicio Social? | AI24: 0 - 4
A25: 3 | B25: Mostré liderazgo en las actividades encomendadas. | O25: 0 - 4 | U25: 10 | V25: ¿Consideras que las actividades que realizaste contribuyen a tu formación integral? | AI25: 0 - 4
A26: 4 | B26: Organicé mi tiempo y trabajé de manera proactiva. | O26: 0 - 4 | U26: 11 | V26: ¿Contribuiste en actividades de beneficio social comunitario? | AI26: 0 - 4
A27: 5 | B27: Interpreté la realidad y me sensibilicé aportando soluciones a la problemática con la actividad complementaria | O27: 0 - 4 | U27: 12 | V27: ¿Contribuiste en actividades de protección al medio ambiente? | AI27: 0 - 4
A28: 6 | B28: Realicé sugerencias innovadoras para beneficio o mejora del programa en el que participa. | O28: 0 - 4 | U28: 13 | V28: ¿Consideras que las competencias que adquiriste en el TecNM contribuyeron a atender asertivamente las actividades de Servicio Social? | AI28: 0 - 4
A29: 7 | B29: Tuve iniciativa para ayudar en las actividades encomendadas y mostré espíritu de servicio. | O29: 0 - 4 | U29: 14 | V29: ¿Consideras que sería factible continuar con este proyecto de Servicio Social a un proyecto de Residencias Profesionales, proyecto integrador, proyecto de investigación o desarrollo tecnológico? | AI29: 0 - 4
A30: Observación: Este formato debe ser llenado de forma digital sin tachaduras ni enmendaduras. | U30: 15 | V30: ¿Qué tanto recomendarías a otro estudiante realizar su Servicio Social en la dependencia donde lo realizaste? | AI30: 0 - 4
A31: TOTAL ACUMULADO | AI31: =SUM(Q23:S29,AK23:AM30) -> 0
A32: CALIFICACIÓN DE AUTOEVALUACIÓN (TOTAL ACUMULADO / 60) x100 | AI32: =ROUND((AI31/60*100),0) -> 0
P35: SELLO DE LA DEPENDENCIA
A38: =FORMULARIO!N24 -> 0 | Y38: =FORMULARIO!N10 -> 0
A39: =FORMULARIO!N25 -> 0 | Y39: =FORMULARIO!N12 -> 0
A41: ITQ-VI-PO-002-08 | AK41: Rev. 3

Sheet CARTA TERMINACION
A3: TECNOLÓGICO NACIONAL DE MÉXICO
A4: INSTITUTO TECNOLÓGICO DE QUERÉTARO
A6: CARTA TERMINACIÓN Y LIBERACIÓN DE SERVICIO SOCIAL
B8: PERIODO | E8: ENE - JUN | G8: =FORMULARIO!K8 -> 0 | H8: AÑO | I8: =FORMULARIO!N8 -> 0 | K8: AGO - DIC | M8: =FORMULARIO!U8 -> X | N8: AÑO | O8: =FORMULARIO!X8 -> 2025
A12: RAMÓN SOTO ARRIOLA
A13: DIRECTOR DEL TECNOLÓGICO NACIONAL DE MEXICO CAMPUS QUERÉTARO
A14: PRESENTE
E16: At’n: | F16: Jefatura del Departamento de Gestión Tecnológica y Vinculación
A18: Por de este medio me permito informarle que el / la C. | J18: =FORMULARIO!N10 -> 0
A19: con Número de Control | E19: =FORMULARIO!N11 -> 0 | I19: de la Carrera de | L19: =FORMULARIO!N12 -> 0
A20: adscrito(a) a nuestra organización en el periodo comprendido del | K20: =DAY(FORMULARIO!N16) -> 5 | L20: de | M20: =TEXT(MONTH(FORMULARIO!N16)*30,"mmmm") -> septiembre | O20: del | P20: =YEAR(FORMULARIO!N16) -> 2025
A21: al | B21: =DAY(FORMULARIO!N20) -> 5 | C21: de | D21: =TEXT(MONTH(FORMULARIO!N20)*30,"mmmm") -> marzo | F21: del | G21: =YEAR(FORMULARIO!N20) -> 2026 | I21: , en su carácter de prestante de Servicio Social ,acumulando
A22: un total de 500 horas, en el desarrollo del proyecto denominado:
A24: =FORMULARIO!N15 -> 0
A26: En la Ciudad de | G26: a los | H26: =DAY(TODAY()) -> 28 | I26: días del mes de | L26: =TEXT(MONTH(TODAY())*30,"mmmm") -> octubre | N26: del año | P26: =YEAR(TODAY()) -> 2025
A28: ,se extiende la presente Carta de Terminación de Servicio Social, al haber concluído el requisito, por lo que queda deslidando de responsabilidad alguna, para lo fines que al (la) interesado(a) convengan.
A32: ATENTAMENTE
L34: SELLO DE LA DEPENDENCIA
A36: =FORMULARIO!N24 -> 0
A37: =FORMULARIO!N25 -> 0
A40: ITQ-VI-PO-002-09 | P40: Rev.3

Sheet REPORTE FINAL
C1: TECNOLÓGICO NACIONAL DE MÉXICO
C2: INSTITUTO TECNOLÓGICO DE QUERÉTARO
C3: DEPARTAMENTO DE GESTIÓN TECNOLÓGICA Y VINCULACIÓN
C4: OFICINA DE SERVICIO SOCIAL
C5: REPORTE FINAL DE SERVICIO SOCIAL
C7: Periodo | F7: ENE-JUN | H7: =FORMULARIO!K8 -> 0 | I7: AÑO | J7: =FORMULARIO!N8 -> 0 | M7: AGO-DIC | O7: =FORMULARIO!U8 -> X | P7: AÑO | Q7: =FORMULARIO!X8 -> 2025
A9: NOMBRE DEL PRESTADOR(A): | G9: =FORMULARIO!N10 -> 0
A10: NÚMERO DE CONTROL | G10: =FORMULARIO!N11 -> 0
A11: CARRERA: | G11: =FORMULARIO!N12 -> 0
A12: NOMBRE DE LA DEPENDENCIA: | G12: =FORMULARIO!N14 -> 0
A13: NOMBRE DEL PROGRAMA: | G13: =FORMULARIO!N15 -> 0
A14: PERIODO SERVICIO SOCIAL: | G14: =DAY(FORMULARIO!N16) -> 5 | H14: de | I14: =TEXT(MONTH(FORMULARIO!N16)*30,"mmmm") -> septiembre | K14: del | L14: =YEAR(FORMULARIO!N16) -> 2025 | N14: al | O14: =DAY(FORMULARIO!N19) -> 5 | P14: de | Q14: =TEXT(MONTH(FORMULARIO!N19)*30,"mmmm") -> marzo | S14: del | T14: =YEAR(FORMULARIO!N19) -> 2026
A16: ACTIVIDADES DESARROLLADAS | M16: RECOMENDACIONES Y SUGERENCIAS
A29: PROBLEMAS A LOS QUE ME ENFRENTÉ
N32: =FORMULARIO!N24 -> 0
N34: =FORMULARIO!N25 -> 0
N40: =FORMULARIO!N10 -> 0
A41: RESULTADOS
N42: =FORMULARIO!N12 -> 0
O46: SELLO DE LA DEPENDENCIA
A53: ITQ-VI-PO-002-010 | V53: Rev. 3

Sheet PORTADA EXPEDIENTE
N2: TECNOLÓGICO NACIONAL DE MÉXICO
N3: INSTITUTO TECNOLÓGICO DE QUERÉTARO
N4: DEPARTAMENTO DE GESTIÓN TECNOLÓGICA Y VINCULACIÓN
N5: OFICINA DE SERVICIO SOCIAL
N6: EXPEDIENTE DE SERVICIO SOCIAL
F8: Periodo | I8: ENE-JUN | K8: =FORMULARIO!K8 -> 0 | L8: AÑO | M8: =FORMULARIO!N8 -> 0 | P8: AGO-DIC | R8: =FORMULARIO!U8 -> X | S8: AÑO | T8: =FORMULARIO!X8 -> 2025
B10: NOMBRE DEL ALUMNO: | J10: =FORMULARIO!N10 -> 0
B11: NÚMERO DE CONTROL: | J11: =FORMULARIO!N11 -> 0
B12: PERIODO DE SERVICIO SOCIAL: | J12: =FORMULARIO!N16 -> 45905 | P12: AL | R12: =FORMULARIO!N20 -> 46086
B13: NOMBRE DE LA DEPENDENCIA: | J13: =FORMULARIO!N14 -> 0
B14: NOMBRE DEL PROGRAMA: | J14: =FORMULARIO!N15 -> 0

Sheet REPORTE EVALUACION EXTRA
B1: TECNOLÓGICO NACIONAL DE MÉXICO
B2: INSTITUTO TECNOLÓGICO DE QUERÉTARO
B3: DEPARTAMENTO DE GESTIÓN TECNOLÓGICA Y VINCULACIÓN
B4: OFICINA DE SERVICIO SOCIAL
B5: FORMATO DE EVALUACIÓN BIMESTRAL DEL SERVICIO SOCIAL
C7: PERIODO | E7: ENE - JUN | G7: =FORMULARIO!K8 -> 0 | H7: AÑO | I7: =FORMULARIO!N8 -> 0 | K7: AGO - DIC | M7: =FORMULARIO!U8 -> X | N7: AÑO | O7: =FORMULARIO!X8 -> 2025
B9: NUM. DE REPORTE | H9: 1 | I9: 2 | J9: 3 | K9: 4 | L9: 5
A12: Nombre(s) del Prestador(a): | E12: =FORMULARIO!N10 -> 0 | N12: No. Control: | P12: =FORMULARIO!N11 -> 0
A13: Carrera: | E13: =FORMULARIO!N12 -> 0
A14: Nombre de la Dependencia: | E14: =FORMULARIO!N14 -> 0
A15: Nombre del Programa: | E15: =FORMULARIO!N15 -> 0
A16: Periodo Bimestral a Reportar: | F16: de | I16: del | K16: al | M16: de | P16: del
A18: Total de Horas Bimestrales | I18: horas | J18: Total de Horas Acumuladas | R18: horas
A20: Evaluación: En qué medida el prestador del Servicio Social cumple con lo siguiente:
A21: Criterios a evaluar | N21: "A" Valor | P21: "B" Evaluación de desempeño
A22: Evaluación por el responsable del programa | B22: Cumple en tiempo y forma con las actividades encomendadas alcanzando los objetivos | N22: 0 - 4
B23: Trabaja en equipos y se adapta a nuevas situaciones | N23: 0 - 4
B24: Muestra liderazgo en las actividades encomendadas | N24: 0 - 4
B25: Organiza su tiempo y trabaja de manera proactiva. | N25: 0 - 4
B26: Interpreta la realidad y se sensibiliza aportando soluciones a la problemática con la actividad complementaria. | N26: 0 - 4
B27: Realiza sugerencias innovadoras para benéfico o mejora del programa en el que participa. | N27: 0 - 4
B28: Tiene iniciativa para ayudar en las actividades encomendadas y muestra espíritu de servicio. | N28: 0 - 4
A29: Suma de criterios a evaluar | N29: 0 - 28 | P29: =SUM(P22:R28) -> 0
A30: Calificación de Evaluación Bimestral (Suma de Criterios / 28) * 100 | N30: =ROUND((P29/28*100),0) -> 0
A31: EVALUACIÓN | E31: =ROUNDDOWN((N30*0.9),0) -> 0 | G31: AUTOEVALUACIÓN | K31: =ROUNDDOWN(('REPORTE AUTOEVA EXTRA'!AI32*0.1),0) -> 0 | M31: CALIFICACIÓN PARCIAL | Q31: =SUM(E31,K31) -> 0
A32: (CALIFICACIÓN * 90%) | G32: (CALIFICACIÓN * 10%)
A33: LLENADO EXCLUSIVO DE OFICINA DE SERVICIO SOCIAL
A34: Penalización de Calificación por entrega tardía | N34: 0 - 10 | O34: negativos
A35: CALIFICACIÓN FINAL (AUTOEVALUACIÓN + REPORTE - PENALIZACIÓN)
A36: OBSERVACIONES
A38: NOTA 1: si lo entregas a la fecha de tu vencimiento tendrás como calificación de evaluación (10 puntos). Si te tardas 1 día después de tu fecha será por (9 puntos) y así consecutivamente, si tardas los 10 días tu calificación será (0 puntos).
A40: NOTA 2: Tabla de Equivalencia
F41: Excelente | H41: 4 | J41: Suficiente | L41: 1
F42: Notable | H42: 3 | J42: Insuficiente | L42: 0
F43: Bueno | H43: 2
A44: Observaciones: Este formato debe ser llenado de forma digital sin tachaduras ni enmendaduras.
L46: Sello de la Dependencia
A49: =FORMULARIO!N24 -> 0
A50: =FORMULARIO!N25 -> 0
C52: ITQ-VI-PO-002-07 | P52: Rev. 3

Sheet REPORTE AUTOEVA EXTRA
A1: TECNOLÓGICO NACIONAL DE MÉXICO
A2: INSTITUTO TECNOLÓGICO DE QUERÉTARO
A3: DEPARTAMENTO DE GESTIÓN TECNOLÓGICA Y VINCULACIÓN
A4: OFICINA DE SERVICIO SOCIAL
A5: FORMATO DE AUTOEVALUACIÓN BIMESTRAL DEL SERVICIO SOCIAL
K7: PERIODO | N7: ENE - JUN | Q7: =FORMULARIO!K8 -> 0 | R7: AÑO | S7: =FORMULARIO!N8 -> 0 | U7: AGO - DIC | X7: =FORMULARIO!U8 -> X | Y7: AÑO | Z7: =FORMULARIO!X8 -> 2025
K9: NUM. DE REPORTE | P9: 1 | R9: 2 | T9: 3 | V9: 4 | X9: 5
C12: Nombre del prestador(a): | N12: =FORMULARIO!N10 -> 0 | AD12: No. De Control: | AG12: =FORMULARIO!N11 -> 0
C13: Carrera: | N13: =FORMULARIO!N12 -> 0
C14: Nombre de la Dependencia: | N14: =FORMULARIO!N14 -> 0
C15: Nombre del Programa: | N15: =FORMULARIO!N15 -> 0
C16: Periodo Bimestral a Reportar: | P16: de | T16: del | W16: al | Z16: de | AE16: de
A18: Horas Reportadas en el Bimestre: | L18: ='REPORTE EVALUACION EXTRA'!E18 -> 0 | R18: horas | U18: Total de Horas Acumuladas: | AC18: ='REPORTE EVALUACION EXTRA'!N18 -> 0 | AI18: horas
A21: AUTOEVALUACIÓN CUALITATIVA DEL PRESTADOR DE SERVICIO SOCIAL | U21: EVALUACIÓN DE LAS ACTIVIDADES REALIZADAS POR EL PRESTADOR
A22: No. | B22: Criterio | O22: VALOR | Q22: EVALUACIÓN | U22: No. | V22: Criterio | AI22: VALOR | AK22: EVALUACIÓN DE DESEMPEÑO
A23: 1 | B23: Cumplí en tiempo y forma con las actividades encomendadas alcanzando los objetivos. | O23: 0 - 4 | U23: 8 | V23: ¿Consideras importante la realización del Servicio Social? | AI23: 0 - 4
A24: 2 | B24: Trabajé en equipo y me adapté a nuevas situaciones. | O24: 0 - 4 | U24: 9 | V24: ¿Consideras que las actividades que realizaste son pertinentes a los fines del Servicio Social? | AI24: 0 - 4
A25: 3 | B25: Mostré liderazgo en las actividades encomendadas. | O25: 0 - 4 | U25: 10 | V25: ¿Consideras que las actividades que realizaste contribuyen a tu formación integral? | AI25: 0 - 4
A26: 4 | B26: Organicé mi tiempo y trabajé de manera proactiva. | O26: 0 - 4 | U26: 11 | V26: ¿Contribuiste en actividades de beneficio social comunitario? | AI26: 0 - 4
A27: 5 | B27: Interpreté la realidad y me sensibilicé aportando soluciones a la problemática con la actividad complementaria | O27: 0 - 4 | U27: 12 | V27: ¿Contribuiste en actividades de protección al medio ambiente? | AI27: 0 - 4
A28: 6 | B28: Realicé sugerencias innovadoras para beneficio o mejora del programa en el que participa. | O28: 0 - 4 | U28: 13 | V28: ¿Consideras que las competencias que adquiriste en el TecNM contribuyeron a atender asertivamente las actividades de Servicio Social? | AI28: 0 - 4
A29: 7 | B29: Tuve iniciativa para ayudar en las actividades encomendadas y mostré espíritu de servicio. | O29: 0 - 4 | U29: 14 | V29: ¿Consideras que sería factible continuar con este proyecto de Servicio Social a un proyecto de Residencias Profesionales, proyecto integrador, proyecto de investigación o desarrollo tecnológico? | AI29: 0 - 4
A30: Observación: Este formato debe ser llenado de forma digital sin tachaduras ni enmendaduras. | U30: 15 | V30: ¿Qué tanto recomendarías a otro estudiante realizar su Servicio Social en la dependencia donde lo realizaste? | AI30: 0 - 4
A31: TOTAL ACUMULADO | AI31: =SUM(Q23:S29,AK23:AM30) -> 0
A32: CALIFICACIÓN DE AUTOEVALUACIÓN (TOTAL ACUMULADO / 60) x100 | AI32: =ROUND((AI31/60*100),0) -> 0
P35: SELLO DE LA DEPENDENCIA
A38: =FORMULARIO!N24 -> 0 | Y38: =FORMULARIO!N10 -> 0
A39: =FORMULARIO!N25 -> 0 | Y39: =FORMULARIO!N12 -> 0
A41: ITQ-VI-PO-002-08 | AK41: Rev. 3
